Package: twilight Version: 1.87.0 Command: /home/biocbuild/bbs-3.23-bioc/R/bin/R CMD build --keep-empty-dirs --no-resave-data twilight StartedAt: 2025-11-20 20:38:14 -0500 (Thu, 20 Nov 2025) EndedAt: 2025-11-20 20:39:25 -0500 (Thu, 20 Nov 2025) EllapsedTime: 71.0 seconds RetCode: 0 Status: OK PackageFile: twilight_1.87.0.tar.gz PackageFileSize: 1.195 MiB