Package: twilight Version: 1.87.0 Command: /Library/Frameworks/R.framework/Resources/bin/R CMD INSTALL twilight StartedAt: 2025-11-20 15:19:16 -0500 (Thu, 20 Nov 2025) EndedAt: 2025-11-20 15:19:32 -0500 (Thu, 20 Nov 2025) EllapsedTime: 16.5 seconds RetCode: 0 Status: OK