Package: twilight Version: 1.87.0 Command: /Library/Frameworks/R.framework/Resources/bin/R CMD build --keep-empty-dirs --no-resave-data twilight StartedAt: 2025-11-20 19:05:04 -0500 (Thu, 20 Nov 2025) EndedAt: 2025-11-20 19:06:23 -0500 (Thu, 20 Nov 2025) EllapsedTime: 78.9 seconds RetCode: 0 Status: OK PackageFile: twilight_1.87.0.tar.gz PackageFileSize: 1.191 MiB