Package: twilight Version: 1.87.0 Command: rm -rf twilight.buildbin-libdir && mkdir twilight.buildbin-libdir && /Users/biocbuild/BBS/utils/build-universal.sh twilight_1.87.0.tar.gz /Library/Frameworks/R.framework/Resources/bin/R twilight.buildbin-libdir StartedAt: 2025-11-21 02:02:42 -0500 (Fri, 21 Nov 2025) EndedAt: 2025-11-21 02:02:55 -0500 (Fri, 21 Nov 2025) EllapsedTime: 12.7 seconds RetCode: 0 Status: OK PackageFile: twilight_1.87.0.tgz PackageFileSize: 1.219 MiB