Package: tweeDEseq Version: 1.57.0 Command: /home/biocbuild/bbs-3.23-bioc/R/bin/R CMD INSTALL tweeDEseq StartedAt: 2025-11-07 15:05:33 -0500 (Fri, 07 Nov 2025) EndedAt: 2025-11-07 15:05:41 -0500 (Fri, 07 Nov 2025) EllapsedTime: 8.9 seconds RetCode: 0 Status: OK