Package: tweeDEseq Version: 1.55.0 Command: /Library/Frameworks/R.framework/Resources/bin/R CMD build --keep-empty-dirs --no-resave-data tweeDEseq StartedAt: 2025-10-16 20:16:25 -0400 (Thu, 16 Oct 2025) EndedAt: 2025-10-16 20:25:09 -0400 (Thu, 16 Oct 2025) EllapsedTime: 524.7 seconds RetCode: 0 Status: OK PackageFile: tweeDEseq_1.55.0.tar.gz PackageFileSize: 231.9 KiB