Package: tweeDEseq Version: 1.55.0 Command: /Library/Frameworks/R.framework/Resources/bin/R CMD INSTALL tweeDEseq StartedAt: 2025-09-29 15:03:07 -0400 (Mon, 29 Sep 2025) EndedAt: 2025-09-29 15:03:13 -0400 (Mon, 29 Sep 2025) EllapsedTime: 5.6 seconds RetCode: 0 Status: OK