Package: tweeDEseq Version: 1.55.0 Command: /Library/Frameworks/R.framework/Resources/bin/R CMD build --keep-empty-dirs --no-resave-data tweeDEseq StartedAt: 2025-09-30 18:04:27 -0400 (Tue, 30 Sep 2025) EndedAt: 2025-09-30 18:12:25 -0400 (Tue, 30 Sep 2025) EllapsedTime: 478.4 seconds RetCode: 0 Status: OK PackageFile: tweeDEseq_1.55.0.tar.gz PackageFileSize: 233.3 KiB