Package: ttgsea Version: 1.17.0 Command: /home/biocbuild/bbs-3.22-bioc/R/bin/R CMD INSTALL ttgsea StartedAt: 2025-10-20 15:10:22 -0400 (Mon, 20 Oct 2025) EndedAt: 2025-10-20 15:10:35 -0400 (Mon, 20 Oct 2025) EllapsedTime: 13.4 seconds RetCode: 0 Status: OK