Package: ttgsea Version: 1.17.0 Command: /home/biocbuild/bbs-3.22-bioc/R/bin/R CMD build --keep-empty-dirs --no-resave-data --md5 ttgsea StartedAt: 2025-10-20 20:32:32 -0400 (Mon, 20 Oct 2025) EndedAt: 2025-10-20 20:32:53 -0400 (Mon, 20 Oct 2025) EllapsedTime: 21.0 seconds RetCode: 0 Status: OK PackageFile: ttgsea_1.17.0.tar.gz PackageFileSize: 332.1 KiB