Package: tripr Version: 1.17.0 Command: /home/biocbuild/bbs-3.23-bioc/R/bin/R CMD INSTALL tripr StartedAt: 2025-11-20 15:09:21 -0500 (Thu, 20 Nov 2025) EndedAt: 2025-11-20 15:10:02 -0500 (Thu, 20 Nov 2025) EllapsedTime: 41.1 seconds RetCode: 0 Status: OK