Package: tripr Version: 1.17.0 Command: /home/biocbuild/bbs-3.23-bioc/R/bin/R CMD build --keep-empty-dirs --no-resave-data tripr StartedAt: 2025-11-20 20:36:59 -0500 (Thu, 20 Nov 2025) EndedAt: 2025-11-20 20:37:48 -0500 (Thu, 20 Nov 2025) EllapsedTime: 48.0 seconds RetCode: 0 Status: OK PackageFile: tripr_1.17.0.tar.gz PackageFileSize: 2.939 MiB