Package: tripr Version: 1.15.0 Command: /Library/Frameworks/R.framework/Resources/bin/R CMD INSTALL tripr StartedAt: 2025-10-12 15:12:46 -0400 (Sun, 12 Oct 2025) EndedAt: 2025-10-12 15:13:56 -0400 (Sun, 12 Oct 2025) EllapsedTime: 69.9 seconds RetCode: 0 Status: OK