Package: tripr Version: 1.15.0 Command: /Library/Frameworks/R.framework/Resources/bin/R CMD build --keep-empty-dirs --no-resave-data tripr StartedAt: 2025-10-12 19:38:39 -0400 (Sun, 12 Oct 2025) EndedAt: 2025-10-12 19:39:58 -0400 (Sun, 12 Oct 2025) EllapsedTime: 78.9 seconds RetCode: 0 Status: OK PackageFile: tripr_1.15.0.tar.gz PackageFileSize: 2.939 MiB