Package: tripr Version: 1.15.0 Command: rm -rf tripr.buildbin-libdir && mkdir tripr.buildbin-libdir && /Users/biocbuild/BBS/utils/build-universal.sh tripr_1.15.0.tar.gz /Library/Frameworks/R.framework/Resources/bin/R tripr.buildbin-libdir StartedAt: 2025-10-13 03:02:35 -0400 (Mon, 13 Oct 2025) EndedAt: 2025-10-13 03:03:53 -0400 (Mon, 13 Oct 2025) EllapsedTime: 77.7 seconds RetCode: 0 Status: OK PackageFile: tripr_1.15.0.tgz PackageFileSize: 4.712 MiB