Package: tripr Version: 1.15.0 Command: /Library/Frameworks/R.framework/Resources/bin/R CMD INSTALL tripr StartedAt: 2025-09-28 15:07:26 -0400 (Sun, 28 Sep 2025) EndedAt: 2025-09-28 15:07:49 -0400 (Sun, 28 Sep 2025) EllapsedTime: 23.0 seconds RetCode: 0 Status: OK