Package: tripr Version: 1.15.0 Maintainer: Nikolaos Pechlivanis MaintainerEmail: inab.bioinformatics at lists.certh.gr git_url: https://git.bioconductor.org/packages/tripr git_branch: devel git_last_commit: f6d9112 git_last_commit_date: 2025-04-15 12:38:08 -0400 (Tue, 15 Apr 2025)