Package: triplex Version: 1.49.0 Command: /Library/Frameworks/R.framework/Resources/bin/R CMD INSTALL triplex StartedAt: 2025-10-14 15:34:28 -0400 (Tue, 14 Oct 2025) EndedAt: 2025-10-14 15:34:53 -0400 (Tue, 14 Oct 2025) EllapsedTime: 25.2 seconds RetCode: 0 Status: OK