Package: triplex Version: 1.49.0 Command: /Library/Frameworks/R.framework/Resources/bin/R CMD build --keep-empty-dirs --no-resave-data triplex StartedAt: 2025-10-14 19:43:05 -0400 (Tue, 14 Oct 2025) EndedAt: 2025-10-14 19:43:45 -0400 (Tue, 14 Oct 2025) EllapsedTime: 40.0 seconds RetCode: 0 Status: OK PackageFile: triplex_1.49.0.tar.gz PackageFileSize: 598.9 KiB