Package: triplex Version: 1.49.0 Command: rm -rf triplex.buildbin-libdir && mkdir triplex.buildbin-libdir && /Users/biocbuild/BBS/utils/build-universal.sh triplex_1.49.0.tar.gz /Library/Frameworks/R.framework/Resources/bin/R triplex.buildbin-libdir StartedAt: 2025-10-14 03:13:52 -0400 (Tue, 14 Oct 2025) EndedAt: 2025-10-14 03:14:21 -0400 (Tue, 14 Oct 2025) EllapsedTime: 28.7 seconds RetCode: 0 Status: OK PackageFile: triplex_1.49.0.tgz PackageFileSize: 934.1 KiB