Package: triplex Version: 1.49.0 Command: /Library/Frameworks/R.framework/Resources/bin/R CMD INSTALL triplex StartedAt: 2025-10-07 15:19:32 -0400 (Tue, 07 Oct 2025) EndedAt: 2025-10-07 15:19:39 -0400 (Tue, 07 Oct 2025) EllapsedTime: 6.6 seconds RetCode: 0 Status: OK