Package: triplex Version: 1.49.0 Command: /Library/Frameworks/R.framework/Resources/bin/R CMD build --keep-empty-dirs --no-resave-data triplex StartedAt: 2025-10-07 18:01:03 -0400 (Tue, 07 Oct 2025) EndedAt: 2025-10-07 18:01:18 -0400 (Tue, 07 Oct 2025) EllapsedTime: 15.2 seconds RetCode: 0 Status: OK PackageFile: triplex_1.49.0.tar.gz PackageFileSize: 600 KiB