Package: triplex Version: 1.49.0 Maintainer: Jiri Hon MaintainerEmail: jiri.hon at gmail.com git_url: https://git.bioconductor.org/packages/triplex git_branch: devel git_last_commit: 7c99430 git_last_commit_date: 2025-04-15 10:23:57 -0400 (Tue, 15 Apr 2025)