Package: trio Version: 3.49.0 Command: /home/biocbuild/bbs-3.23-bioc/R/bin/R CMD build --keep-empty-dirs --no-resave-data trio StartedAt: 2025-10-31 20:42:45 -0400 (Fri, 31 Oct 2025) EndedAt: 2025-10-31 20:43:35 -0400 (Fri, 31 Oct 2025) EllapsedTime: 50.0 seconds RetCode: 0 Status: OK PackageFile: trio_3.49.0.tar.gz PackageFileSize: 753.1 KiB