Package: trio Version: 3.49.0 Command: /Library/Frameworks/R.framework/Resources/bin/R CMD INSTALL trio StartedAt: 2025-11-20 15:20:27 -0500 (Thu, 20 Nov 2025) EndedAt: 2025-11-20 15:20:54 -0500 (Thu, 20 Nov 2025) EllapsedTime: 27.0 seconds RetCode: 0 Status: OK