Package: trio Version: 3.49.0 Command: /Library/Frameworks/R.framework/Resources/bin/R CMD build --keep-empty-dirs --no-resave-data trio StartedAt: 2025-11-20 19:04:08 -0500 (Thu, 20 Nov 2025) EndedAt: 2025-11-20 19:05:09 -0500 (Thu, 20 Nov 2025) EllapsedTime: 60.6 seconds RetCode: 0 Status: OK PackageFile: trio_3.49.0.tar.gz PackageFileSize: 749.3 KiB