Package: trio Version: 3.47.0 Command: /Library/Frameworks/R.framework/Resources/bin/R CMD INSTALL trio StartedAt: 2025-10-22 15:10:41 -0400 (Wed, 22 Oct 2025) EndedAt: 2025-10-22 15:10:50 -0400 (Wed, 22 Oct 2025) EllapsedTime: 9.1 seconds RetCode: 0 Status: OK