Package: trio Version: 3.47.0 Command: /Library/Frameworks/R.framework/Resources/bin/R CMD build --keep-empty-dirs --no-resave-data trio StartedAt: 2025-10-22 18:04:32 -0400 (Wed, 22 Oct 2025) EndedAt: 2025-10-22 18:04:54 -0400 (Wed, 22 Oct 2025) EllapsedTime: 21.2 seconds RetCode: 0 Status: OK PackageFile: trio_3.47.0.tar.gz PackageFileSize: 753.1 KiB