Package: tricycle Version: 1.19.0 Command: /home/biocbuild/bbs-3.23-bioc/R/bin/R CMD INSTALL tricycle StartedAt: 2025-11-17 15:54:35 -0500 (Mon, 17 Nov 2025) EndedAt: 2025-11-17 15:55:10 -0500 (Mon, 17 Nov 2025) EllapsedTime: 34.6 seconds RetCode: 0 Status: OK