Package: treekoR Version: 1.19.0 Command: /home/biocbuild/bbs-3.23-bioc/R/bin/R CMD check --install=check:treekoR.install-out.txt --library=/home/biocbuild/bbs-3.23-bioc/R/site-library --timings treekoR_1.19.0.tar.gz StartedAt: 2025-11-21 04:59:17 -0500 (Fri, 21 Nov 2025) EndedAt: 2025-11-21 05:04:45 -0500 (Fri, 21 Nov 2025) EllapsedTime: 328.6 seconds RetCode: 0 Status: OK CheckDir: treekoR.Rcheck Warnings: 0