Package: treeio Version: 1.35.0 Command: /home/biocbuild/bbs-3.23-bioc/R/bin/R CMD INSTALL treeio StartedAt: 2025-11-20 15:08:43 -0500 (Thu, 20 Nov 2025) EndedAt: 2025-11-20 15:08:50 -0500 (Thu, 20 Nov 2025) EllapsedTime: 6.8 seconds RetCode: 0 Status: OK