Package: treeio Version: 1.35.0 Command: /home/biocbuild/bbs-3.23-bioc/R/bin/R CMD check --install=check:treeio.install-out.txt --library=/home/biocbuild/bbs-3.23-bioc/R/site-library --timings treeio_1.35.0.tar.gz StartedAt: 2025-11-21 04:58:50 -0500 (Fri, 21 Nov 2025) EndedAt: 2025-11-21 05:00:04 -0500 (Fri, 21 Nov 2025) EllapsedTime: 74.1 seconds RetCode: 0 Status: OK CheckDir: treeio.Rcheck Warnings: 0