Package: treeclimbR Version: 1.7.0 Command: /home/biocbuild/bbs-3.23-bioc/R/bin/R CMD INSTALL treeclimbR StartedAt: 2025-11-19 15:35:37 -0500 (Wed, 19 Nov 2025) EndedAt: 2025-11-19 15:36:15 -0500 (Wed, 19 Nov 2025) EllapsedTime: 37.8 seconds RetCode: 0 Status: OK