Package: treeclimbR Version: 1.7.0 Command: /home/biocbuild/bbs-3.23-bioc/R/bin/R CMD check --install=check:treeclimbR.install-out.txt --library=/home/biocbuild/bbs-3.23-bioc/R/site-library --timings treeclimbR_1.7.0.tar.gz StartedAt: 2025-11-20 05:00:17 -0500 (Thu, 20 Nov 2025) EndedAt: 2025-11-20 05:07:05 -0500 (Thu, 20 Nov 2025) EllapsedTime: 407.6 seconds RetCode: 0 Status: OK CheckDir: treeclimbR.Rcheck Warnings: 0