Package: treeclimbR Version: 1.7.0 Command: /home/biocbuild/bbs-3.23-bioc/R/bin/R CMD build --keep-empty-dirs --no-resave-data treeclimbR StartedAt: 2025-11-19 20:36:35 -0500 (Wed, 19 Nov 2025) EndedAt: 2025-11-19 20:37:40 -0500 (Wed, 19 Nov 2025) EllapsedTime: 65.1 seconds RetCode: 0 Status: OK PackageFile: treeclimbR_1.7.0.tar.gz PackageFileSize: 677.8 KiB