Package: traviz Version: 1.15.1 Command: /home/biocbuild/bbs-3.23-bioc/R/bin/R CMD INSTALL traviz StartedAt: 2025-10-22 21:19:16 -0000 (Wed, 22 Oct 2025) EndedAt: 2025-10-22 21:19:17 -0000 (Wed, 22 Oct 2025) EllapsedTime: 1.1 seconds RetCode: 1 Status: ERROR