############################################################################## ############################################################################## ### ### Running command: ### ### /home/biocbuild/bbs-3.23-bioc/R/bin/R CMD build --keep-empty-dirs --no-resave-data traviz ### ############################################################################## ############################################################################## * checking for file ‘traviz/DESCRIPTION’ ... OK * preparing ‘traviz’: * checking DESCRIPTION meta-information ... OK * installing the package (it is needed to build vignettes) ----------------------------------- * installing *source* package ‘traviz’ ... ** this is package ‘traviz’ version ‘1.15.1’ ** using staged installation ** R Error in .install_package_code_files(".", instdir) : files in '/tmp/RtmpdyFHfo/Rbuild1d5aa87bc02c9b/traviz/R' missing from 'Collate' field: zzz.R ERROR: unable to collate and parse R files for package ‘traviz’ * removing ‘/tmp/RtmpdyFHfo/Rinst1d5aa85f1bf900/traviz’ ----------------------------------- ERROR: package installation failed