Package: traviz Version: 1.15.1 Command: /Library/Frameworks/R.framework/Resources/bin/R CMD INSTALL traviz StartedAt: 2025-10-24 15:33:11 -0400 (Fri, 24 Oct 2025) EndedAt: 2025-10-24 15:33:13 -0400 (Fri, 24 Oct 2025) EllapsedTime: 1.6 seconds RetCode: 1 Status: ERROR