Package: traviz Version: 1.15.1 Command: /Library/Frameworks/R.framework/Resources/bin/R CMD build --keep-empty-dirs --no-resave-data traviz StartedAt: 2025-10-24 19:07:21 -0400 (Fri, 24 Oct 2025) EndedAt: 2025-10-24 19:07:22 -0400 (Fri, 24 Oct 2025) EllapsedTime: 1.2 seconds RetCode: 1 Status: ERROR PackageFile: None PackageFileSize: NA