############################################################################## ############################################################################## ### ### Running command: ### ### /Library/Frameworks/R.framework/Resources/bin/R CMD INSTALL traviz ### ############################################################################## ############################################################################## * installing to library ‘/Library/Frameworks/R.framework/Versions/4.5-arm64/Resources/library’ * installing *source* package ‘traviz’ ... ** this is package ‘traviz’ version ‘1.15.1’ ** using staged installation ** R Error in .install_package_code_files(".", instdir) : files in '/Users/biocbuild/bbs-3.22-bioc/meat/traviz/R' missing from 'Collate' field: zzz.R ERROR: unable to collate and parse R files for package ‘traviz’ * removing ‘/Library/Frameworks/R.framework/Versions/4.5-arm64/Resources/library/traviz’