Package: traviz Version: 1.15.1 Command: /Library/Frameworks/R.framework/Resources/bin/R CMD build --keep-empty-dirs --no-resave-data traviz StartedAt: 2025-10-09 17:57:44 -0400 (Thu, 09 Oct 2025) EndedAt: 2025-10-09 17:57:45 -0400 (Thu, 09 Oct 2025) EllapsedTime: 1.0 seconds RetCode: 1 Status: ERROR PackageFile: None PackageFileSize: NA