Package: traviz Version: 1.15.0 Command: rm -rf traviz.buildbin-libdir && mkdir traviz.buildbin-libdir && /Users/biocbuild/BBS/utils/build-universal.sh traviz_1.15.0.tar.gz /Library/Frameworks/R.framework/Resources/bin/R traviz.buildbin-libdir StartedAt: 2025-07-23 22:43:08 -0400 (Wed, 23 Jul 2025) EndedAt: 2025-07-23 22:43:21 -0400 (Wed, 23 Jul 2025) EllapsedTime: 12.2 seconds RetCode: 0 Status: OK PackageFile: traviz_1.15.0.tgz PackageFileSize: 3.709 MiB