Package: traseR Version: 1.41.0 Command: /home/biocbuild/bbs-3.23-bioc/R/bin/R CMD INSTALL traseR StartedAt: 2025-11-20 15:34:24 -0500 (Thu, 20 Nov 2025) EndedAt: 2025-11-20 15:34:57 -0500 (Thu, 20 Nov 2025) EllapsedTime: 32.2 seconds RetCode: 0 Status: OK