Package: traseR Version: 1.39.0 Command: /Library/Frameworks/R.framework/Resources/bin/R CMD build --keep-empty-dirs --no-resave-data traseR StartedAt: 2025-10-24 19:07:15 -0400 (Fri, 24 Oct 2025) EndedAt: 2025-10-24 19:08:15 -0400 (Fri, 24 Oct 2025) EllapsedTime: 59.4 seconds RetCode: 0 Status: OK PackageFile: traseR_1.39.0.tar.gz PackageFileSize: 6.22 MiB