Package: traseR Version: 1.39.0 Command: rm -rf traseR.buildbin-libdir && mkdir traseR.buildbin-libdir && /Users/biocbuild/BBS/utils/build-universal.sh traseR_1.39.0.tar.gz /Library/Frameworks/R.framework/Resources/bin/R traseR.buildbin-libdir StartedAt: 2025-10-25 02:09:22 -0400 (Sat, 25 Oct 2025) EndedAt: 2025-10-25 02:10:07 -0400 (Sat, 25 Oct 2025) EllapsedTime: 45.2 seconds RetCode: 0 Status: OK PackageFile: traseR_1.39.0.tgz PackageFileSize: 6.29 MiB