Package: traseR Version: 1.39.0 Command: /Library/Frameworks/R.framework/Resources/bin/R CMD INSTALL traseR StartedAt: 2025-10-07 15:19:01 -0400 (Tue, 07 Oct 2025) EndedAt: 2025-10-07 15:19:14 -0400 (Tue, 07 Oct 2025) EllapsedTime: 12.9 seconds RetCode: 0 Status: OK