Package: transomics2cytoscape Version: 1.21.0 Command: /home/biocbuild/bbs-3.23-bioc/R/bin/R CMD INSTALL transomics2cytoscape StartedAt: 2025-11-20 15:24:47 -0500 (Thu, 20 Nov 2025) EndedAt: 2025-11-20 15:24:50 -0500 (Thu, 20 Nov 2025) EllapsedTime: 3.0 seconds RetCode: 0 Status: OK