Package: transomics2cytoscape Version: 1.19.0 Command: /Library/Frameworks/R.framework/Resources/bin/R CMD INSTALL transomics2cytoscape StartedAt: 2025-10-17 15:19:01 -0400 (Fri, 17 Oct 2025) EndedAt: 2025-10-17 15:19:07 -0400 (Fri, 17 Oct 2025) EllapsedTime: 6.0 seconds RetCode: 0 Status: OK