Package: transomics2cytoscape Version: 1.19.0 Command: /Library/Frameworks/R.framework/Resources/bin/R CMD INSTALL transomics2cytoscape StartedAt: 2025-10-05 15:08:54 -0400 (Sun, 05 Oct 2025) EndedAt: 2025-10-05 15:08:55 -0400 (Sun, 05 Oct 2025) EllapsedTime: 1.2 seconds RetCode: 0 Status: OK