Package: transomics2cytoscape Version: 1.19.0 Command: rm -rf transomics2cytoscape.buildbin-libdir && mkdir transomics2cytoscape.buildbin-libdir && /Users/biocbuild/BBS/utils/build-universal.sh transomics2cytoscape_1.19.0.tar.gz /Library/Frameworks/R.framework/Resources/bin/R transomics2cytoscape.buildbin-libdir StartedAt: 2025-10-05 23:02:43 -0400 (Sun, 05 Oct 2025) EndedAt: 2025-10-05 23:02:46 -0400 (Sun, 05 Oct 2025) EllapsedTime: 3.1 seconds RetCode: 0 Status: OK PackageFile: transomics2cytoscape_1.19.0.tgz PackageFileSize: 11.85 MiB